BEGIN:VCALENDAR
VERSION:2.0
PRODID:-//Aldershot Rifle Club - ECPv6.15.20//NONSGML v1.0//EN
CALSCALE:GREGORIAN
METHOD:PUBLISH
X-ORIGINAL-URL:https://www.aldershotrpc.co.uk
X-WR-CALDESC:Events for Aldershot Rifle Club
REFRESH-INTERVAL;VALUE=DURATION:PT1H
X-Robots-Tag:noindex
X-PUBLISHED-TTL:PT1H
BEGIN:VTIMEZONE
TZID:Europe/London
BEGIN:DAYLIGHT
TZOFFSETFROM:+0000
TZOFFSETTO:+0100
TZNAME:BST
DTSTART:20190331T010000
END:DAYLIGHT
BEGIN:STANDARD
TZOFFSETFROM:+0100
TZOFFSETTO:+0000
TZNAME:GMT
DTSTART:20191027T010000
END:STANDARD
BEGIN:DAYLIGHT
TZOFFSETFROM:+0000
TZOFFSETTO:+0100
TZNAME:BST
DTSTART:20200329T010000
END:DAYLIGHT
BEGIN:STANDARD
TZOFFSETFROM:+0100
TZOFFSETTO:+0000
TZNAME:GMT
DTSTART:20201025T010000
END:STANDARD
BEGIN:DAYLIGHT
TZOFFSETFROM:+0000
TZOFFSETTO:+0100
TZNAME:BST
DTSTART:20210328T010000
END:DAYLIGHT
BEGIN:STANDARD
TZOFFSETFROM:+0100
TZOFFSETTO:+0000
TZNAME:GMT
DTSTART:20211031T010000
END:STANDARD
END:VTIMEZONE
BEGIN:VEVENT
DTSTART;VALUE=DATE:20200905
DTEND;VALUE=DATE:20200907
DTSTAMP:20260421T234012
CREATED:20200107T210141Z
LAST-MODIFIED:20200107T210141Z
UID:210-1599264000-1599436799@www.aldershotrpc.co.uk
SUMMARY:GR National Open Championships
DESCRIPTION:
URL:https://www.aldershotrpc.co.uk/event/gr-national-open-championships/
CATEGORIES:GR Competition
END:VEVENT
BEGIN:VEVENT
DTSTART;TZID=Europe/London:20200801T083000
DTEND;TZID=Europe/London:20200801T123000
DTSTAMP:20260421T234012
CREATED:20200107T205010Z
LAST-MODIFIED:20200107T205010Z
UID:269-1596270600-1596285000@www.aldershotrpc.co.uk
SUMMARY:Bisley - Stickledown 900
DESCRIPTION:Stickledown – 900 This is for club members only who have the relevant SCC. Any queries please contact the club secretary
URL:https://www.aldershotrpc.co.uk/event/bisley-stickledown-900-aug20/
CATEGORIES:Bisley Club Shoot
END:VEVENT
BEGIN:VEVENT
DTSTART;TZID=Europe/London:20200704T083000
DTEND;TZID=Europe/London:20200704T123000
DTSTAMP:20260421T234012
CREATED:20200115T181549Z
LAST-MODIFIED:20200115T181549Z
UID:285-1593851400-1593865800@www.aldershotrpc.co.uk
SUMMARY:Bisley - Short Siberia 200
DESCRIPTION:Short Siberia – 200 This is for club members only who have the relevant SCC. Any queries please contact the club secretary
URL:https://www.aldershotrpc.co.uk/event/bisley-short-siberia-200-jul20/
CATEGORIES:Bisley Club Shoot
END:VEVENT
BEGIN:VEVENT
DTSTART;TZID=Europe/London:20200606T083000
DTEND;TZID=Europe/London:20200606T123000
DTSTAMP:20260421T234012
CREATED:20200107T204757Z
LAST-MODIFIED:20200107T204757Z
UID:266-1591432200-1591446600@www.aldershotrpc.co.uk
SUMMARY:Bisley - Century 600
DESCRIPTION:Century – 600 This is for club members only who have the relevant SCC. Any queries please contact the club secretary
URL:https://www.aldershotrpc.co.uk/event/bisley-century-600-jun20/
CATEGORIES:Bisley Club Shoot
END:VEVENT
BEGIN:VEVENT
DTSTART;VALUE=DATE:20200522
DTEND;VALUE=DATE:20200526
DTSTAMP:20260421T234012
CREATED:20190520T201936Z
LAST-MODIFIED:20200107T210259Z
UID:186-1590105600-1590451199@www.aldershotrpc.co.uk
SUMMARY:Phoenix
DESCRIPTION:
URL:https://www.aldershotrpc.co.uk/event/phoenix/
CATEGORIES:GR Competition
END:VEVENT
BEGIN:VEVENT
DTSTART;TZID=Europe/London:20200502T133000
DTEND;TZID=Europe/London:20200502T170000
DTSTAMP:20260421T234012
CREATED:20200107T204524Z
LAST-MODIFIED:20200107T204524Z
UID:264-1588426200-1588438800@www.aldershotrpc.co.uk
SUMMARY:Bisley - Century 300
DESCRIPTION:Century – 300 This is for club members only who have the relevant SCC. Any queries please contact the club secretary
URL:https://www.aldershotrpc.co.uk/event/bisley-century-300-may20/
CATEGORIES:Bisley Club Shoot
END:VEVENT
BEGIN:VEVENT
DTSTART;TZID=Europe/London:20200404T133000
DTEND;TZID=Europe/London:20200404T170000
DTSTAMP:20260421T234012
CREATED:20200107T204028Z
LAST-MODIFIED:20200107T204833Z
UID:260-1586007000-1586019600@www.aldershotrpc.co.uk
SUMMARY:Bisley - Century 500
DESCRIPTION:Century – 500 This is for club members only who have the relevant SCC. Any queries please contact the club secretary
URL:https://www.aldershotrpc.co.uk/event/century-500-apr20/
CATEGORIES:Bisley Club Shoot
END:VEVENT
BEGIN:VEVENT
DTSTART;VALUE=DATE:20200328
DTEND;VALUE=DATE:20200330
DTSTAMP:20260421T234012
CREATED:20200107T210414Z
LAST-MODIFIED:20200107T210414Z
UID:280-1585353600-1585526399@www.aldershotrpc.co.uk
SUMMARY:Spring Action Weekend
DESCRIPTION:
URL:https://www.aldershotrpc.co.uk/event/spring-action-weekend/
CATEGORIES:GR Competition
END:VEVENT
BEGIN:VEVENT
DTSTART;TZID=Europe/London:20200307T083000
DTEND;TZID=Europe/London:20200307T123000
DTSTAMP:20260421T234012
CREATED:20200107T203506Z
LAST-MODIFIED:20200107T210638Z
UID:258-1583569800-1583584200@www.aldershotrpc.co.uk
SUMMARY:Bisley - Stickledown 900
DESCRIPTION:Stickledown – 900 This is for club members only who have the relevant SCC. Any queries please contact the club secretary
URL:https://www.aldershotrpc.co.uk/event/stickledown-900-mar20/
CATEGORIES:Bisley Club Shoot
END:VEVENT
BEGIN:VEVENT
DTSTART;TZID=Europe/London:20200208T083000
DTEND;TZID=Europe/London:20200208T123000
DTSTAMP:20260421T234012
CREATED:20200107T203158Z
LAST-MODIFIED:20200115T180954Z
UID:256-1581150600-1581165000@www.aldershotrpc.co.uk
SUMMARY:Bisley - Century 300
DESCRIPTION:Century – 300 McQueens This is for club members only who have the relevant SCC. Any queries please contact the club secretary \n 
URL:https://www.aldershotrpc.co.uk/event/bisley-century-300-feb20/
CATEGORIES:Bisley Club Shoot
END:VEVENT
END:VCALENDAR